BEGIN:VCALENDAR
VERSION:2.0
BEGIN:VEVENT
PRODID:-//EventsAdmin//EN
UID:9b05889a-03e4-4e8e-bc3d-657e5ced1f16@eventsadmin.com
DTSTAMP:20260421T122704Z
TRANSP:TRANSPARENT
DTSTART:20180503T183000
DTEND:20180503T200000
SUMMARY;ENCODING=QUOTED-PRINTABLE:Παρουσίαση βιβλίου : Dr. Θεόδωρος Τσακίρης | Ενεργειακή Ασφάλεια και Διεθνής Πολιτική 
LOCATION;ENCODING=QUOTED-PRINTABLE:Wyndham Grand Athens Hotel
DESCRIPTION;ENCODING=QUOTED-PRINTABLE:Ο Δρ. Θεόδωρος Τσακίρης εξέδωσε το βιβλίο του με τίτλο "Ενεργειακή Ασφάλεια και Διεθνής Πολιτική". =0D=0A"Η μελέτη της ενεργειακής ασφάλειας εισήλθε δυναμικά ως θεματική του κλάδου των Διεθνών Σχέσεων κατά τη διάρκεια της δεκαετίας του 1970 ως αποτέλεσμα της μεγάλης πετρελαϊκής κρίσης του 1973 και του κύματος των εθνικοποιήσεων που ακολούθησε. Στη διεθνή ωστόσο βιβλιογραφία η σημασία της ασφάλειας εφοδιασμού με ζωτικές πρώτες ύλες και ειδικότερα με πετρέλαιο είναι κατά πολύ παλαιότερη.=0D=0AΑνάγεται στις αρχές το
END:VEVENT
END:VCALENDAR
